BEGIN:VCALENDAR
VERSION:2.0
PRODID:-//Meritxell Gené - ECPv6.15.20//NONSGML v1.0//EN
CALSCALE:GREGORIAN
METHOD:PUBLISH
X-WR-CALNAME:Meritxell Gené
X-ORIGINAL-URL:https://www.meritxellgene.cat
X-WR-CALDESC:Esdeveniments per Meritxell Gené
REFRESH-INTERVAL;VALUE=DURATION:PT1H
X-Robots-Tag:noindex
X-PUBLISHED-TTL:PT1H
BEGIN:VTIMEZONE
TZID:Europe/Paris
BEGIN:DAYLIGHT
TZOFFSETFROM:+0100
TZOFFSETTO:+0200
TZNAME:CEST
DTSTART:20240331T010000
END:DAYLIGHT
BEGIN:STANDARD
TZOFFSETFROM:+0200
TZOFFSETTO:+0100
TZNAME:CET
DTSTART:20241027T010000
END:STANDARD
BEGIN:DAYLIGHT
TZOFFSETFROM:+0100
TZOFFSETTO:+0200
TZNAME:CEST
DTSTART:20250330T010000
END:DAYLIGHT
BEGIN:STANDARD
TZOFFSETFROM:+0200
TZOFFSETTO:+0100
TZNAME:CET
DTSTART:20251026T010000
END:STANDARD
BEGIN:DAYLIGHT
TZOFFSETFROM:+0100
TZOFFSETTO:+0200
TZNAME:CEST
DTSTART:20260329T010000
END:DAYLIGHT
BEGIN:STANDARD
TZOFFSETFROM:+0200
TZOFFSETTO:+0100
TZNAME:CET
DTSTART:20261025T010000
END:STANDARD
BEGIN:DAYLIGHT
TZOFFSETFROM:+0100
TZOFFSETTO:+0200
TZNAME:CEST
DTSTART:20270328T010000
END:DAYLIGHT
BEGIN:STANDARD
TZOFFSETFROM:+0200
TZOFFSETTO:+0100
TZNAME:CET
DTSTART:20271031T010000
END:STANDARD
END:VTIMEZONE
BEGIN:VEVENT
DTSTART;TZID=Europe/Paris:20260418T203000
DTEND;TZID=Europe/Paris:20260418T220000
DTSTAMP:20260422T213056
CREATED:20260404T114302Z
LAST-MODIFIED:20260404T114302Z
UID:24947-1776544200-1776549600@www.meritxellgene.cat
SUMMARY:Espectacle "D'un temps\, d'un país. 30 anys." a Sant Feliu de Llobregat
DESCRIPTION:
URL:https://www.meritxellgene.cat/event/espectacle-dun-temps-dun-pais-30-anys-a-sant-feliu-de-llobregat/
LOCATION:Ateneu Santfeliuenc
END:VEVENT
BEGIN:VEVENT
DTSTART;TZID=Europe/Paris:20260417T200000
DTEND;TZID=Europe/Paris:20260417T213000
DTSTAMP:20260422T213056
CREATED:20260404T114141Z
LAST-MODIFIED:20260404T114141Z
UID:24932-1776456000-1776461400@www.meritxellgene.cat
SUMMARY:Espectacle "D'un temps\, d'un país. 30 anys." a Ròtova
DESCRIPTION:
URL:https://www.meritxellgene.cat/event/espectacle-dun-temps-dun-pais-30-anys-a-rotova/
LOCATION:Cine de Ròtova
END:VEVENT
BEGIN:VEVENT
DTSTART;TZID=Europe/Paris:20260416T200000
DTEND;TZID=Europe/Paris:20260416T213000
DTSTAMP:20260422T213056
CREATED:20260404T105012Z
LAST-MODIFIED:20260414T192330Z
UID:24929-1776369600-1776375000@www.meritxellgene.cat
SUMMARY:Espectacle "D'un temps\, d'un país. 30 anys" a València
DESCRIPTION:
URL:https://www.meritxellgene.cat/event/espectacle-dun-temps-dun-pais-30-anys-a-valencia/
LOCATION:Octubre CCC (Centre de Cultura Contemporània)
END:VEVENT
BEGIN:VEVENT
DTSTART;TZID=Europe/Paris:20260228T200000
DTEND;TZID=Europe/Paris:20260228T213000
DTSTAMP:20260422T213056
CREATED:20260108T172500Z
LAST-MODIFIED:20260108T172500Z
UID:24883-1772308800-1772314200@www.meritxellgene.cat
SUMMARY:Concert a Gelida
DESCRIPTION:
URL:https://www.meritxellgene.cat/event/concert-a-gelida/
END:VEVENT
BEGIN:VEVENT
DTSTART;TZID=Europe/Paris:20260226T200000
DTEND;TZID=Europe/Paris:20260226T213000
DTSTAMP:20260422T213056
CREATED:20260108T153308Z
LAST-MODIFIED:20260110T160500Z
UID:24878-1772136000-1772141400@www.meritxellgene.cat
SUMMARY:Estrena de l'espectacle "D'un temps\, d'un país"
DESCRIPTION:Penalba & Gené.\n30 anys d’un temps\, d’un país.\n26 de febrer\nTeatre Aliança del Poblenou.\n(Entrades a http://barnasants.com)\nL’any 1996\, Joan Manuel Serrat va celebrar al Palau Sant Jordi un homenatge als seus companys de la Nova Cançó i a alguns autors i poetes que van influir en el seu desenvolupament. D’aquell concert en va sortir un doble disc titulat BANDA SONORA D’UN TEMPS\, D’UN PAÍS. \nTrenta anys després d’aquell homenatge\, Borja Penalba i Meritxell Gené s’han reunit per tornar-hi. Després de l’èxit de la preestrena als Estats Units\, Penalba i Gené estrenaran aquest projecte titulat D’un temps\, d’un país\, un espectacle de nova creació d’homenatge als grans noms de la Nova Cançó\, produït pel Barnasants. \nEs tracta d’un viatge sonor que dialoga amb l’essència dels grans noms com Maria del Mar Bonet\, Lluís Llach\, Raimon\, Ovidi Montllor\, Isidor Marí\, entre moltes d’altres veus que han marcat diverses generacions. Amb una sensibilitat exquisida i una complicitat artística que travessa l’escenari\, el duet Penalba i Gené revisiten aquestes cançons des del present\, amb arranjaments propis i una mirada contemporània que en preserva la força poètica i emocional. El resultat és un concert ple de llum\, memòria i mediterraneïtat\, on la tradició es transforma en una experiència viva i actual. \nAquest espectacle és molt més que un tribut: és un acte d’amor cap a una manera de fer cançó que ha definit un país i una cultura. Borja Penalba i Meritxell Gené encarnen aquesta herència amb respecte\, personalitat i una profunditat artística que fa vibrar el públic des del primer acord. Una invitació a redescobrir les arrels de la nostra música i a celebrar la força d’un patrimoni sonor que continua emocionant arreu del món. \n\n\nhttps://www.youtube.com/watch?v=22ecjq9goOI
URL:https://www.meritxellgene.cat/event/estrena-de-lespectacle-dun-temps-dun-pais-amb-borja-penalba/
ATTACH;FMTTYPE=image/jpeg:https://www.meritxellgene.cat/wp-content/uploads/2026/01/878804de-dc18-447a-bb53-34fe91861467.jpg
END:VEVENT
BEGIN:VEVENT
DTSTART;TZID=Europe/Paris:20260213T220000
DTEND;TZID=Europe/Paris:20260213T230000
DTSTAMP:20260422T213056
CREATED:20260108T152306Z
LAST-MODIFIED:20260110T160402Z
UID:24876-1771020000-1771023600@www.meritxellgene.cat
SUMMARY:Concert a "Les nits de taverna" d'Almacelles
DESCRIPTION:
URL:https://www.meritxellgene.cat/event/concert-a-les-nits-de-taverna-dalmacelles/
ATTACH;FMTTYPE=image/jpeg:https://www.meritxellgene.cat/wp-content/uploads/2026/01/WhatsApp-Image-2026-01-10-at-09.54.02.jpeg
END:VEVENT
BEGIN:VEVENT
DTSTART;TZID=Europe/Paris:20260208T120000
DTEND;TZID=Europe/Paris:20260208T120000
DTSTAMP:20260422T213056
CREATED:20260108T151856Z
LAST-MODIFIED:20260110T160147Z
UID:24874-1770552000-1770552000@www.meritxellgene.cat
SUMMARY:Concert a Copons
DESCRIPTION:
URL:https://www.meritxellgene.cat/event/concert-a-copons/
ATTACH;FMTTYPE=image/jpeg:https://www.meritxellgene.cat/wp-content/uploads/2026/01/6ebda0a9-b56b-4c07-bddc-7f55afa04a1b.jpg
END:VEVENT
BEGIN:VEVENT
DTSTART;TZID=Europe/Paris:20251229T170000
DTEND;TZID=Europe/Paris:20251229T190000
DTSTAMP:20260422T213056
CREATED:20251011T201711Z
LAST-MODIFIED:20251011T201759Z
UID:24793-1767027600-1767034800@www.meritxellgene.cat
SUMMARY:Homenatge a Màrius Torres
DESCRIPTION:LLEIDA
URL:https://www.meritxellgene.cat/event/acte-dhomenatge-a-marius-torres/
END:VEVENT
BEGIN:VEVENT
DTSTART;TZID=Europe/Paris:20251207T190000
DTEND;TZID=Europe/Paris:20251207T203000
DTSTAMP:20260422T213056
CREATED:20251112T121832Z
LAST-MODIFIED:20251112T121832Z
UID:24826-1765134000-1765139400@www.meritxellgene.cat
SUMMARY:Concert de Borja Penalba al Festival Terrer (amb l'acompanyament de Meritxell Gené)
DESCRIPTION:PORRERA
URL:https://www.meritxellgene.cat/event/concert-de-borja-penalba-al-festival-terrer-amb-lacompanyament-de-meritxell-gene/
END:VEVENT
BEGIN:VEVENT
DTSTART;TZID=Europe/Paris:20251126T200000
DTEND;TZID=Europe/Paris:20251126T213000
DTSTAMP:20260422T213056
CREATED:20251011T201500Z
LAST-MODIFIED:20251011T201500Z
UID:24790-1764187200-1764192600@www.meritxellgene.cat
SUMMARY:Acte d'Homentage a la Nova Cançó
DESCRIPTION:BARCELONA
URL:https://www.meritxellgene.cat/event/acte-dhomentage-a-la-nova-canco/
LOCATION:Aliança del Poblenou
END:VEVENT
BEGIN:VEVENT
DTSTART;TZID=Europe/Paris:20251121T200000
DTEND;TZID=Europe/Paris:20251121T210000
DTSTAMP:20260422T213056
CREATED:20251011T201233Z
LAST-MODIFIED:20251011T201233Z
UID:24787-1763755200-1763758800@www.meritxellgene.cat
SUMMARY:Sopar Estellés al Foment Martinenc
DESCRIPTION:BARCELONA
URL:https://www.meritxellgene.cat/event/sopar-estelles-al-foment-martinenc/
LOCATION:Foment Martinenc\, Barcelona
END:VEVENT
BEGIN:VEVENT
DTSTART;TZID=Europe/Paris:20251031T200000
DTEND;TZID=Europe/Paris:20251031T213000
DTSTAMP:20260422T213056
CREATED:20251011T200928Z
LAST-MODIFIED:20251011T200928Z
UID:24784-1761940800-1761946200@www.meritxellgene.cat
SUMMARY:Concert a l'Octubre CCC (en solitari)
DESCRIPTION:VALÈNCIA
URL:https://www.meritxellgene.cat/event/concert-a-loctubre-ccc-en-solitari/
LOCATION:Octubre CCC\, C/ Sant Ferran\, 12\, València
END:VEVENT
BEGIN:VEVENT
DTSTART;TZID=Europe/Paris:20251025T190000
DTEND;TZID=Europe/Paris:20251025T203000
DTSTAMP:20260422T213056
CREATED:20251011T200111Z
LAST-MODIFIED:20251011T200111Z
UID:24779-1761418800-1761424200@www.meritxellgene.cat
SUMMARY:Concert d'Homenatge a La Nova Cançó (amb Pau Alabajos)
DESCRIPTION:SABADELL
URL:https://www.meritxellgene.cat/event/concert-dhomenatge-a-la-nova-canco-amb-pau-alabajos/
LOCATION:Antic Edifici del Círcol Republica Federal\, C/ de Narcís Giralt\, 40\, Sabadell
END:VEVENT
BEGIN:VEVENT
DTSTART;TZID=Europe/Paris:20251008T200000
DTEND;TZID=Europe/Paris:20251008T213000
DTSTAMP:20260422T213056
CREATED:20250520T105345Z
LAST-MODIFIED:20250520T105345Z
UID:24150-1759953600-1759959000@www.meritxellgene.cat
SUMMARY:Espectacle "Poetes amb majúscula"
DESCRIPTION:LLEIDA
URL:https://www.meritxellgene.cat/event/espectacle-poetes-amb-majuscula/
END:VEVENT
BEGIN:VEVENT
DTSTART;TZID=Europe/Paris:20251006T080000
DTEND;TZID=Europe/Paris:20251006T170000
DTSTAMP:20260422T213056
CREATED:20250904T094445Z
LAST-MODIFIED:20250904T094445Z
UID:24776-1759737600-1759770000@www.meritxellgene.cat
SUMMARY:Concert a Barcelona
DESCRIPTION:BARCELONA
URL:https://www.meritxellgene.cat/event/concert-a-barcelona/
END:VEVENT
BEGIN:VEVENT
DTSTART;TZID=Europe/Paris:20251004T080000
DTEND;TZID=Europe/Paris:20251004T170000
DTSTAMP:20260422T213056
CREATED:20250904T094043Z
LAST-MODIFIED:20250904T094043Z
UID:24772-1759564800-1759597200@www.meritxellgene.cat
SUMMARY:Concert als Vilars d'Arbeca
DESCRIPTION:ARBECA
URL:https://www.meritxellgene.cat/event/concert-als-vilars-darbeca/
END:VEVENT
BEGIN:VEVENT
DTSTART;TZID=Europe/Paris:20251002T190000
DTEND;TZID=Europe/Paris:20251002T223000
DTSTAMP:20260422T213056
CREATED:20250520T105250Z
LAST-MODIFIED:20250520T105250Z
UID:24148-1759431600-1759444200@www.meritxellgene.cat
SUMMARY:Col·laboració en un sopar Estellés
DESCRIPTION:MONTMELÓ
URL:https://www.meritxellgene.cat/event/collaboracio-en-un-sopar-estelles/
END:VEVENT
BEGIN:VEVENT
DTSTART;TZID=Europe/Paris:20250926T200000
DTEND;TZID=Europe/Paris:20250926T213000
DTSTAMP:20260422T213056
CREATED:20250513T082940Z
LAST-MODIFIED:20250513T082940Z
UID:24137-1758916800-1758922200@www.meritxellgene.cat
SUMMARY:Espectacle "Poetes amb majúscula" (format duet)
DESCRIPTION:CIUTADILLA
URL:https://www.meritxellgene.cat/event/espectacle-poetes-amb-majuscula-format-duet-2/
LOCATION:CIUTADILLA
END:VEVENT
BEGIN:VEVENT
DTSTART;TZID=Europe/Paris:20250921T080000
DTEND;TZID=Europe/Paris:20250921T170000
DTSTAMP:20260422T213056
CREATED:20250904T094254Z
LAST-MODIFIED:20250904T094254Z
UID:24774-1758441600-1758474000@www.meritxellgene.cat
SUMMARY:Concert amb Borja Penalba a Saint Paul (Minnesota)
DESCRIPTION:MINNESOTA
URL:https://www.meritxellgene.cat/event/concert-amb-borja-penalba-a-saint-paul-minnesota-2/
END:VEVENT
BEGIN:VEVENT
DTSTART;TZID=Europe/Paris:20250918T080000
DTEND;TZID=Europe/Paris:20250918T170000
DTSTAMP:20260422T213056
CREATED:20250904T091508Z
LAST-MODIFIED:20250904T091508Z
UID:24765-1758182400-1758214800@www.meritxellgene.cat
SUMMARY:Concert amb Borja Penalba al Catalan Institute of America
DESCRIPTION:NOVA YORK
URL:https://www.meritxellgene.cat/event/concert-amb-borja-penalba-al-catalan-institute-of-america/
LOCATION:Church Street School for Music & Art
END:VEVENT
BEGIN:VEVENT
DTSTART;TZID=Europe/Paris:20250910T190000
DTEND;TZID=Europe/Paris:20250910T203000
DTSTAMP:20260422T213056
CREATED:20250626T092102Z
LAST-MODIFIED:20250626T092102Z
UID:24734-1757530800-1757536200@www.meritxellgene.cat
SUMMARY:Col·laboració en l'acte de presentació de La Bressola
DESCRIPTION:EL VENDRELL
URL:https://www.meritxellgene.cat/event/collaboracio-en-lacte-de-presentacio-de-la-bressola/
LOCATION:Centre Civic del Vendrell
END:VEVENT
BEGIN:VEVENT
DTSTART;TZID=Europe/Paris:20250809T190000
DTEND;TZID=Europe/Paris:20250809T190000
DTSTAMP:20260422T213056
CREATED:20250729T072533Z
LAST-MODIFIED:20250729T072754Z
UID:24753-1754766000-1754766000@www.meritxellgene.cat
SUMMARY:Concert en l'homenatge a Conxita Grangé
DESCRIPTION:CABDELLA
URL:https://www.meritxellgene.cat/event/concert-en-lhomenatge-a-conxita-grange/
LOCATION:CENTRAL DE CABDELLA
END:VEVENT
BEGIN:VEVENT
DTSTART;TZID=Europe/Paris:20250725T200000
DTEND;TZID=Europe/Paris:20250725T200000
DTSTAMP:20260422T213056
CREATED:20250415T190607Z
LAST-MODIFIED:20250603T093938Z
UID:24075-1753473600-1753473600@www.meritxellgene.cat
SUMMARY:Espectacle "La Mirada Violeta. Roig i Marçal"
DESCRIPTION:RIPOLL
URL:https://www.meritxellgene.cat/event/especacle-la-mirada-violeta-roig-i-marcal/
LOCATION:RIPOLL
END:VEVENT
BEGIN:VEVENT
DTSTART;VALUE=DATE:20250704
DTEND;VALUE=DATE:20250705
DTSTAMP:20260422T213056
CREATED:20250129T095933Z
LAST-MODIFIED:20250429T143651Z
UID:20992-1751587200-1751673599@www.meritxellgene.cat
SUMMARY:Espectacle “No diré res de mi”
DESCRIPTION:TORRELLES DE LLOBREGAT
URL:https://www.meritxellgene.cat/event/concert-3/
LOCATION:Ateneu Torrellenc
END:VEVENT
BEGIN:VEVENT
DTSTART;TZID=Europe/Paris:20250622T120000
DTEND;TZID=Europe/Paris:20250622T120000
DTSTAMP:20260422T213056
CREATED:20250606T090319Z
LAST-MODIFIED:20250606T090410Z
UID:24550-1750593600-1750593600@www.meritxellgene.cat
SUMMARY:Concert en l'acte "Dues llambordes de memòria"
DESCRIPTION:ESPOT
URL:https://www.meritxellgene.cat/event/concert-en-lacte-dues-llambordes-de-memoria/
END:VEVENT
BEGIN:VEVENT
DTSTART;TZID=Europe/Paris:20250613T080000
DTEND;TZID=Europe/Paris:20250613T170000
DTSTAMP:20260422T213056
CREATED:20250520T101921Z
LAST-MODIFIED:20250520T103512Z
UID:24144-1749801600-1749834000@www.meritxellgene.cat
SUMMARY:Concert d'Homenatge a la poeta Rosa Fabregat
DESCRIPTION:CERVERA
URL:https://www.meritxellgene.cat/event/concert-dhomenatge-a-la-poeta-rosa-fabregat/
LOCATION:CERVERA
END:VEVENT
BEGIN:VEVENT
DTSTART;VALUE=DATE:20250524
DTEND;VALUE=DATE:20250525
DTSTAMP:20260422T213056
CREATED:20250129T095812Z
LAST-MODIFIED:20250513T081746Z
UID:20990-1748044800-1748131199@www.meritxellgene.cat
SUMMARY:Concert de comiat de Les Kol·lontai
DESCRIPTION:BARCELONA
URL:https://www.meritxellgene.cat/event/concert-2/
LOCATION:Sala Paral·lel 62 (Club)
END:VEVENT
BEGIN:VEVENT
DTSTART;TZID=Europe/Paris:20250523T200000
DTEND;TZID=Europe/Paris:20250523T213000
DTSTAMP:20260422T213056
CREATED:20250421T145651Z
LAST-MODIFIED:20250513T082320Z
UID:24082-1748030400-1748035800@www.meritxellgene.cat
SUMMARY:Concert en la inauguració del nou Festival Paraula
DESCRIPTION:SANT JULIÀ DE VILATORTA
URL:https://www.meritxellgene.cat/event/concert-en-la-inauguracio-del-festival-paraula/
LOCATION:Jardí de Cal Sastre (l’estanc)
END:VEVENT
BEGIN:VEVENT
DTSTART;TZID=Europe/Paris:20250517T080000
DTEND;TZID=Europe/Paris:20250517T170000
DTSTAMP:20260422T213056
CREATED:20250429T145119Z
LAST-MODIFIED:20250513T082624Z
UID:24124-1747468800-1747501200@www.meritxellgene.cat
SUMMARY:Col·laboració en un acte pel Consell per la República
DESCRIPTION:CERVERA
URL:https://www.meritxellgene.cat/event/collaboracio-en-lacte-pel-consell-per-la-republica/
END:VEVENT
BEGIN:VEVENT
DTSTART;TZID=Europe/Paris:20250427T113000
DTEND;TZID=Europe/Paris:20250427T123000
DTSTAMP:20260422T213056
CREATED:20250415T183459Z
LAST-MODIFIED:20250415T185548Z
UID:24054-1745753400-1745757000@www.meritxellgene.cat
SUMMARY:Col·laboració en l'homenatge a Maria Mercè Marçal a Seana
DESCRIPTION:
URL:https://www.meritxellgene.cat/event/collaboracio-en-lhomenatge-a-maria-merce-marcal/
LOCATION:SEANA
END:VEVENT
END:VCALENDAR