BEGIN:VCALENDAR
VERSION:2.0
PRODID:-//Meritxell Gené - ECPv6.15.20//NONSGML v1.0//EN
CALSCALE:GREGORIAN
METHOD:PUBLISH
X-ORIGINAL-URL:https://www.meritxellgene.cat
X-WR-CALDESC:Esdeveniments per Meritxell Gené
REFRESH-INTERVAL;VALUE=DURATION:PT1H
X-Robots-Tag:noindex
X-PUBLISHED-TTL:PT1H
BEGIN:VTIMEZONE
TZID:Europe/Paris
BEGIN:DAYLIGHT
TZOFFSETFROM:+0100
TZOFFSETTO:+0200
TZNAME:CEST
DTSTART:20240331T010000
END:DAYLIGHT
BEGIN:STANDARD
TZOFFSETFROM:+0200
TZOFFSETTO:+0100
TZNAME:CET
DTSTART:20241027T010000
END:STANDARD
BEGIN:DAYLIGHT
TZOFFSETFROM:+0100
TZOFFSETTO:+0200
TZNAME:CEST
DTSTART:20250330T010000
END:DAYLIGHT
BEGIN:STANDARD
TZOFFSETFROM:+0200
TZOFFSETTO:+0100
TZNAME:CET
DTSTART:20251026T010000
END:STANDARD
BEGIN:DAYLIGHT
TZOFFSETFROM:+0100
TZOFFSETTO:+0200
TZNAME:CEST
DTSTART:20260329T010000
END:DAYLIGHT
BEGIN:STANDARD
TZOFFSETFROM:+0200
TZOFFSETTO:+0100
TZNAME:CET
DTSTART:20261025T010000
END:STANDARD
END:VTIMEZONE
BEGIN:VTIMEZONE
TZID:UTC
BEGIN:STANDARD
TZOFFSETFROM:+0000
TZOFFSETTO:+0000
TZNAME:UTC
DTSTART:20240101T000000
END:STANDARD
END:VTIMEZONE
BEGIN:VEVENT
DTSTART;TZID=Europe/Paris:20250523T200000
DTEND;TZID=Europe/Paris:20250523T213000
DTSTAMP:20260423T023325
CREATED:20250421T145651Z
LAST-MODIFIED:20250513T082320Z
UID:24082-1748030400-1748035800@www.meritxellgene.cat
SUMMARY:Concert en la inauguració del nou Festival Paraula
DESCRIPTION:SANT JULIÀ DE VILATORTA
URL:https://www.meritxellgene.cat/event/concert-en-la-inauguracio-del-festival-paraula/
LOCATION:Jardí de Cal Sastre (l’estanc)
END:VEVENT
BEGIN:VEVENT
DTSTART;TZID=Europe/Paris:20250517T080000
DTEND;TZID=Europe/Paris:20250517T170000
DTSTAMP:20260423T023325
CREATED:20250429T145119Z
LAST-MODIFIED:20250513T082624Z
UID:24124-1747468800-1747501200@www.meritxellgene.cat
SUMMARY:Col·laboració en un acte pel Consell per la República
DESCRIPTION:CERVERA
URL:https://www.meritxellgene.cat/event/collaboracio-en-lacte-pel-consell-per-la-republica/
END:VEVENT
BEGIN:VEVENT
DTSTART;TZID=Europe/Paris:20250427T113000
DTEND;TZID=Europe/Paris:20250427T123000
DTSTAMP:20260423T023325
CREATED:20250415T183459Z
LAST-MODIFIED:20250415T185548Z
UID:24054-1745753400-1745757000@www.meritxellgene.cat
SUMMARY:Col·laboració en l'homenatge a Maria Mercè Marçal a Seana
DESCRIPTION:
URL:https://www.meritxellgene.cat/event/collaboracio-en-lhomenatge-a-maria-merce-marcal/
LOCATION:SEANA
END:VEVENT
BEGIN:VEVENT
DTSTART;VALUE=DATE:20250427
DTEND;VALUE=DATE:20250428
DTSTAMP:20260423T023325
CREATED:20250415T190352Z
LAST-MODIFIED:20250415T191029Z
UID:24073-1745712000-1745798399@www.meritxellgene.cat
SUMMARY:Concert col·lectiu: Nova Cançó i censura: Lletres censurades a la llum
DESCRIPTION:Teatre Casinet d’Hostafrancs
URL:https://www.meritxellgene.cat/event/concert-collectiu-nova-canco-i-censura-lletres-censurades-a-la-llum/
LOCATION:BARCELONA
END:VEVENT
BEGIN:VEVENT
DTSTART;VALUE=DATE:20250426
DTEND;VALUE=DATE:20250427
DTSTAMP:20260423T023325
CREATED:20221207T145536Z
LAST-MODIFIED:20250415T185125Z
UID:17745-1745625600-1745711999@www.meritxellgene.cat
SUMMARY:Espectacle “No diré res de mi”
DESCRIPTION:Sala l’Abadia
URL:https://www.meritxellgene.cat/event/concert-abadia/
LOCATION:ARBECA
END:VEVENT
BEGIN:VEVENT
DTSTART;VALUE=DATE:20250423
DTEND;VALUE=DATE:20250424
DTSTAMP:20260423T023325
CREATED:20250224T183015Z
LAST-MODIFIED:20250415T185334Z
UID:23236-1745366400-1745452799@www.meritxellgene.cat
SUMMARY:Concert col·lectiu: Sant Jordi des del balcó
DESCRIPTION:Plaça dels Mercaders (El Foment)
URL:https://www.meritxellgene.cat/event/petit-concert-de-sant-jordi/
LOCATION:GIRONA
END:VEVENT
BEGIN:VEVENT
DTSTART;TZID=Europe/Paris:20250409T060000
DTEND;TZID=Europe/Paris:20250409T193000
DTSTAMP:20260423T023325
CREATED:20250305T214044Z
LAST-MODIFIED:20250325T092309Z
UID:23780-1744178400-1744227000@www.meritxellgene.cat
SUMMARY:Estrena del nou disc 'Adelerades' (Les Kol·lontai)
DESCRIPTION:LLEIDA
URL:https://www.meritxellgene.cat/event/estrena-del-nou-disc-adelerades-les-kollontai/
LOCATION:PATI DE L’IEI\, LLEIDA
END:VEVENT
BEGIN:VEVENT
DTSTART;TZID=Europe/Paris:20250402T110000
DTEND;TZID=Europe/Paris:20250402T130000
DTSTAMP:20260423T023325
CREATED:20250310T093758Z
LAST-MODIFIED:20250325T092136Z
UID:23788-1743591600-1743598800@www.meritxellgene.cat
SUMMARY:Col·laboració en la clausura dels Premis CAC
DESCRIPTION:LLEIDA
URL:https://www.meritxellgene.cat/event/collaboracio-en-la-clausura-dels-premis-cac/
LOCATION:UDL (LLEIDA)\, Campus del Rectorat\, LLEIDA
END:VEVENT
BEGIN:VEVENT
DTSTART;TZID=UTC:20250329T200000
DTEND;TZID=UTC:20250329T210000
DTSTAMP:20260423T023325
CREATED:20250221T114514Z
LAST-MODIFIED:20250325T091647Z
UID:23214-1743278400-1743282000@www.meritxellgene.cat
SUMMARY:Espectacle “Poetes amb majúscula” (format duet)
DESCRIPTION:ARTESA DE LLEIDA
URL:https://www.meritxellgene.cat/event/espectacle-poetes-amb-majuscula-format-duet/
LOCATION:TEATRE MUNICIPAL\, C/ Lleida\, ARTESA DE LLEIDA
END:VEVENT
BEGIN:VEVENT
DTSTART;VALUE=DATE:20250320
DTEND;VALUE=DATE:20250321
DTSTAMP:20260423T023325
CREATED:20250224T101510Z
LAST-MODIFIED:20250310T094516Z
UID:23233-1742428800-1742515199@www.meritxellgene.cat
SUMMARY:Concert d’homenatge a V.A.Estellés
DESCRIPTION:BIBLIOTECA VALENTÍ ALMIRALL (EL PAPIOL)
URL:https://www.meritxellgene.cat/event/concert-dhomenatge-a-v-a-estelles/
LOCATION:BIBLIOTECA VALENTÍ ALMIRALL (EL PAPIOL)
END:VEVENT
BEGIN:VEVENT
DTSTART;TZID=Europe/Paris:20250319T193000
DTEND;TZID=Europe/Paris:20250319T210000
DTSTAMP:20260423T023325
CREATED:20250305T213200Z
LAST-MODIFIED:20250310T091524Z
UID:23776-1742412600-1742418000@www.meritxellgene.cat
SUMMARY:Espectacle "Poetes amb majúscula" a la desena setmana de "Poesia a Les Cases"
DESCRIPTION:
URL:https://www.meritxellgene.cat/event/espectacle-poetes-amb-majuscula-a-la-desena-setmana-de-poesia-a-les-cases/
LOCATION:EDIFICI EL MOLI (MOLINS DE REI)
END:VEVENT
BEGIN:VEVENT
DTSTART;VALUE=DATE:20250312
DTEND;VALUE=DATE:20250313
DTSTAMP:20260423T023325
CREATED:20250224T101346Z
LAST-MODIFIED:20250310T094521Z
UID:23229-1741737600-1741823999@www.meritxellgene.cat
SUMMARY:Col·laboració en l’Assamblea d’Òmnium Eixample
DESCRIPTION:C.C.LLEIDATÀ (BARCELONA)
URL:https://www.meritxellgene.cat/event/collaboracio-en-lassamblea-domnium-eixample/
LOCATION:C.C.LLEIDATÀ (BARCELONA)
END:VEVENT
BEGIN:VEVENT
DTSTART;VALUE=DATE:20250226
DTEND;VALUE=DATE:20250227
DTSTAMP:20260423T023325
CREATED:20250224T101159Z
LAST-MODIFIED:20250310T094526Z
UID:23226-1740528000-1740614399@www.meritxellgene.cat
SUMMARY:Concert solidari “Lleida per la Bressola”
DESCRIPTION:Espai Orfeó (LLEIDA)
URL:https://www.meritxellgene.cat/event/concert-solidari-lleida-per-la-bressola/
LOCATION:Espai Orfeó (LLEIDA)
END:VEVENT
BEGIN:VEVENT
DTSTART;VALUE=DATE:20250222
DTEND;VALUE=DATE:20250223
DTSTAMP:20260423T023325
CREATED:20250224T101105Z
LAST-MODIFIED:20250310T094530Z
UID:23223-1740182400-1740268799@www.meritxellgene.cat
SUMMARY:Espectacle “Poetes amb majúscula” a la Plaça del Llibre
DESCRIPTION:ALACANT
URL:https://www.meritxellgene.cat/event/espectacle-poetes-amb-majuscula-a-la-placa-del-llibre/
LOCATION:ALACANT
END:VEVENT
END:VCALENDAR